BEGIN:VCALENDAR
VERSION:2.0
PRODID:https://www.flvwdialog.de
METHOD:PUBLISH
BEGIN:VEVENT
DTSTART;TZID=Europe/Berlin:20260627T110000
DESCRIPTION:Erzeugt durch https://www.flvwdialog.de/info.php?id=22180
LOCATION:Gladbeck
SUMMARY:Kreisbestenkämpfe 2024 des FLVW Kreises 12
UID:
SEQUENCE:0
DTSTAMP;TZID=Europe/Berlin:20260420T174534
END:VEVENT
END:VCALENDAR



