BEGIN:VCALENDAR
VERSION:2.0
PRODID:https://www.flvwdialog.de
METHOD:PUBLISH
BEGIN:VEVENT
DTSTART;TZID=Europe/Berlin:20260628T000000
DESCRIPTION:Erzeugt durch https://www.flvwdialog.de/info.php?id=22184
LOCATION:Erndtebrück
SUMMARY:Kreis DJMM U14/Förder-WK U12
UID:
SEQUENCE:0
DTSTAMP;TZID=Europe/Berlin:20260421T052617
END:VEVENT
END:VCALENDAR



