BEGIN:VCALENDAR
VERSION:2.0
PRODID:https://www.flvwdialog.de
METHOD:PUBLISH
BEGIN:VEVENT
DTSTART;TZID=Europe/Berlin:20260627T100000
DESCRIPTION:Erzeugt durch https://www.flvwdialog.de/info.php?id=22186
LOCATION:Herne
SUMMARY:Kreismeisterschaften
UID:
SEQUENCE:0
DTSTAMP;TZID=Europe/Berlin:20260420T162213
END:VEVENT
END:VCALENDAR



