BEGIN:VCALENDAR
VERSION:2.0
PRODID:https://www.flvwdialog.de
METHOD:PUBLISH
BEGIN:VEVENT
DTSTART;TZID=Europe/Berlin:20260517T110000
DESCRIPTION:Erzeugt durch https://www.flvwdialog.de/info.php?id=22187
LOCATION:Nordkirchen
SUMMARY:Stabhochsprungmeeting 1
UID:
SEQUENCE:0
DTSTAMP;TZID=Europe/Berlin:20260421T235917
END:VEVENT
END:VCALENDAR



