BEGIN:VCALENDAR
VERSION:2.0
PRODID:https://www.flvwdialog.de
METHOD:PUBLISH
BEGIN:VEVENT
DTSTART;TZID=Europe/Berlin:20260510T120000
DESCRIPTION:Heute Abend Meldeschluss - Erzeugt durch https://www.flvwdialog.de/info.php?id=22187
LOCATION:Nordkirchen
SUMMARY:Heute Abend Meldeschluss - Stabhochsprungmeeting 1
UID:MS
SEQUENCE:0
DTSTAMP;TZID=Europe/Berlin:20260421T235917
END:VEVENT
END:VCALENDAR



