BEGIN:VCALENDAR
VERSION:2.0
PRODID:https://www.flvwdialog.de
METHOD:PUBLISH
BEGIN:VEVENT
DTSTART;TZID=Europe/Berlin:20260621T120000
DESCRIPTION:Heute Abend Meldeschluss - Erzeugt durch https://www.flvwdialog.de/info.php?id=22188
LOCATION:Soest
SUMMARY:Heute Abend Meldeschluss - LAZ-KuchenMeister-Kinderleichtathletik für die Altersklassen U8,U10 & U12
UID:MS
SEQUENCE:0
DTSTAMP;TZID=Europe/Berlin:20260423T093405
END:VEVENT
END:VCALENDAR



