BEGIN:VCALENDAR
VERSION:2.0
PRODID:https://www.flvwdialog.de
METHOD:PUBLISH
BEGIN:VEVENT
DTSTART;TZID=Europe/Berlin:20260904T000000
DESCRIPTION:Erzeugt durch https://www.flvwdialog.de/info.php?id=22190
LOCATION:Dormagen
SUMMARY:Straberger 1/3 Marathon
UID:
SEQUENCE:0
DTSTAMP;TZID=Europe/Berlin:20260424T215755
END:VEVENT
END:VCALENDAR



